BEGIN:VCALENDAR
VERSION:2.0
PRODID:-//徳和住民自治協議会 - ECPv4.1.0.1//NONSGML v1.0//EN
CALSCALE:GREGORIAN
METHOD:PUBLISH
X-WR-CALNAME:徳和住民自治協議会
X-ORIGINAL-URL:http://www.tokuwa.jp
X-WR-CALDESC:Events for 徳和住民自治協議会
BEGIN:VEVENT
DTSTART;TZID="Asia/Tokyo":20151213T100000
DTEND;TZID="Asia/Tokyo":20151213T120000
DTSTAMP:20260425T022131
CREATED:20150830T014441
LAST-MODIFIED:20150830T014441
UID:519-1450000800-1450008000@www.tokuwa.jp
SUMMARY:親子パンづくり教室
DESCRIPTION:
URL:http://www.tokuwa.jp/event/%e8%a6%aa%e5%ad%90%e3%83%91%e3%83%b3%e3%81%a5%e3%81%8f%e3%82%8a%e6%95%99%e5%ae%a4
END:VEVENT
END:VCALENDAR