BEGIN:VCALENDAR
VERSION:2.0
PRODID:-//徳和住民自治協議会 - ECPv4.1.0.1//NONSGML v1.0//EN
CALSCALE:GREGORIAN
METHOD:PUBLISH
X-WR-CALNAME:徳和住民自治協議会
X-ORIGINAL-URL:http://www.tokuwa.jp
X-WR-CALDESC:Events for 徳和住民自治協議会
BEGIN:VEVENT
DTSTART;TZID="Asia/Tokyo":20160317T190000
DTEND;TZID="Asia/Tokyo":20160317T200000
DTSTAMP:20260424T200019
CREATED:20160209T012539
LAST-MODIFIED:20160209T012539
UID:917-1458241200-1458244800@www.tokuwa.jp
SUMMARY:見守り隊全体会議
DESCRIPTION:
URL:http://www.tokuwa.jp/event/%e8%a6%8b%e5%ae%88%e3%82%8a%e9%9a%8a%e5%85%a8%e4%bd%93%e4%bc%9a%e8%ad%b0
END:VEVENT
END:VCALENDAR