BEGIN:VCALENDAR
VERSION:2.0
PRODID:-//徳和住民自治協議会 - ECPv4.1.0.1//NONSGML v1.0//EN
CALSCALE:GREGORIAN
METHOD:PUBLISH
X-WR-CALNAME:徳和住民自治協議会
X-ORIGINAL-URL:http://www.tokuwa.jp
X-WR-CALDESC:Events for 徳和住民自治協議会
BEGIN:VEVENT
DTSTART;TZID="Asia/Tokyo":20170502T080000
DTEND;TZID="Asia/Tokyo":20170502T170000
DTSTAMP:20260424T041012
CREATED:20170502T004640
LAST-MODIFIED:20170502T004808
UID:3022-1493712000-1493744400@www.tokuwa.jp
SUMMARY:素敵なのができました(^_-)-☆
DESCRIPTION:こんな素敵な鯉のぼりができました(^_-)-☆このバルーン鯉のぼりを見ながら\n\nお家に帰ってから会話が弾むのでしょうねー
URL:http://www.tokuwa.jp/event/%e7%b4%a0%e6%95%b5%e3%81%aa%e3%81%ae%e3%81%8c%e3%81%a7%e3%81%8d%e3%81%be%e3%81%97%e3%81%9f_-%e2%98%86
ATTACH;FMTTYPE=image/jpeg:http://www.tokuwa.jp/wp/wp-content/uploads/IMG_3052.jpg
END:VEVENT
END:VCALENDAR