BEGIN:VCALENDAR
VERSION:2.0
PRODID:-//徳和住民自治協議会 - ECPv4.1.0.1//NONSGML v1.0//EN
CALSCALE:GREGORIAN
METHOD:PUBLISH
X-WR-CALNAME:徳和住民自治協議会
X-ORIGINAL-URL:http://www.tokuwa.jp
X-WR-CALDESC:Events for 徳和住民自治協議会
BEGIN:VEVENT
DTSTART;TZID="Asia/Tokyo":20170608T190000
DTEND;TZID="Asia/Tokyo":20170608T200000
DTSTAMP:20260424T121318
CREATED:20170518T085044
LAST-MODIFIED:20170518T085044
UID:3052-1496948400-1496952000@www.tokuwa.jp
SUMMARY:第2回公民館部会議
DESCRIPTION:
URL:http://www.tokuwa.jp/event/%e7%ac%ac2%e5%9b%9e%e5%85%ac%e6%b0%91%e9%a4%a8%e9%83%a8%e4%bc%9a%e8%ad%b0
END:VEVENT
END:VCALENDAR