BEGIN:VCALENDAR
VERSION:2.0
PRODID:-//徳和住民自治協議会 - ECPv4.1.0.1//NONSGML v1.0//EN
CALSCALE:GREGORIAN
METHOD:PUBLISH
X-WR-CALNAME:徳和住民自治協議会
X-ORIGINAL-URL:http://www.tokuwa.jp
X-WR-CALDESC:Events for 徳和住民自治協議会
BEGIN:VEVENT
DTSTART;TZID="Asia/Tokyo":20170614T100000
DTEND;TZID="Asia/Tokyo":20170614T120000
DTSTAMP:20260424T103312
CREATED:20170518T090710
LAST-MODIFIED:20170518T090710
UID:3065-1497434400-1497441600@www.tokuwa.jp
SUMMARY:第２回役員会
DESCRIPTION:
URL:http://www.tokuwa.jp/event/%e7%ac%ac%ef%bc%92%e5%9b%9e%e5%bd%b9%e5%93%a1%e4%bc%9a-2
END:VEVENT
END:VCALENDAR