BEGIN:VCALENDAR
VERSION:2.0
PRODID:-//徳和住民自治協議会 - ECPv4.1.0.1//NONSGML v1.0//EN
CALSCALE:GREGORIAN
METHOD:PUBLISH
X-WR-CALNAME:徳和住民自治協議会
X-ORIGINAL-URL:http://www.tokuwa.jp
X-WR-CALDESC:Events for 徳和住民自治協議会
BEGIN:VEVENT
DTSTART;TZID="Asia/Tokyo":20170622T100000
DTEND;TZID="Asia/Tokyo":20170622T120000
DTSTAMP:20260424T090257
CREATED:20170518T090824
LAST-MODIFIED:20170518T090824
UID:3066-1498125600-1498132800@www.tokuwa.jp
SUMMARY:第１回安全防災環境部部会議
DESCRIPTION:
URL:http://www.tokuwa.jp/event/%e7%ac%ac%ef%bc%91%e5%9b%9e%e5%ae%89%e5%85%a8%e9%98%b2%e7%81%bd%e7%92%b0%e5%a2%83%e9%83%a8%e9%83%a8%e4%bc%9a%e8%ad%b0
END:VEVENT
END:VCALENDAR