BEGIN:VCALENDAR
VERSION:2.0
PRODID:-//徳和住民自治協議会 - ECPv4.1.0.1//NONSGML v1.0//EN
CALSCALE:GREGORIAN
METHOD:PUBLISH
X-WR-CALNAME:徳和住民自治協議会
X-ORIGINAL-URL:http://www.tokuwa.jp
X-WR-CALDESC:Events for 徳和住民自治協議会
BEGIN:VEVENT
DTSTART;TZID="Asia/Tokyo":20160526T100000
DTEND;TZID="Asia/Tokyo":20160526T113000
DTSTAMP:20260424T194907
CREATED:20160604T070740
LAST-MODIFIED:20160604T070740
UID:2522-1464256800-1464262200@www.tokuwa.jp
SUMMARY:第１回　健康福祉部　役員会
DESCRIPTION:
URL:http://www.tokuwa.jp/event/%e7%ac%ac%ef%bc%91%e5%9b%9e%e3%80%80%e5%81%a5%e5%ba%b7%e7%a6%8f%e7%a5%89%e9%83%a8%e3%80%80%e5%bd%b9%e5%93%a1%e4%bc%9a
END:VEVENT
END:VCALENDAR