BEGIN:VCALENDAR
VERSION:2.0
PRODID:-//徳和住民自治協議会 - ECPv4.1.0.1//NONSGML v1.0//EN
CALSCALE:GREGORIAN
METHOD:PUBLISH
X-WR-CALNAME:徳和住民自治協議会
X-ORIGINAL-URL:http://www.tokuwa.jp
X-WR-CALDESC:Events for 徳和住民自治協議会
BEGIN:VEVENT
DTSTART;TZID="Asia/Tokyo":20151115T090000
DTEND;TZID="Asia/Tokyo":20151115T150000
DTSTAMP:20260425T105620
CREATED:20150830T014121
LAST-MODIFIED:20150830T014121
UID:514-1447578000-1447599600@www.tokuwa.jp
SUMMARY:神戸・徳和合同ソフトバレーボール大会
DESCRIPTION:
URL:http://www.tokuwa.jp/event/%e7%a5%9e%e6%88%b8%e3%83%bb%e5%be%b3%e5%92%8c%e5%90%88%e5%90%8c%e3%82%bd%e3%83%95%e3%83%88%e3%83%90%e3%83%ac%e3%83%bc%e3%83%9c%e3%83%bc%e3%83%ab%e5%a4%a7%e4%bc%9a
END:VEVENT
END:VCALENDAR