BEGIN:VCALENDAR
VERSION:2.0
PRODID:-//徳和住民自治協議会 - ECPv4.1.0.1//NONSGML v1.0//EN
CALSCALE:GREGORIAN
METHOD:PUBLISH
X-WR-CALNAME:徳和住民自治協議会
X-ORIGINAL-URL:http://www.tokuwa.jp
X-WR-CALDESC:Events for 徳和住民自治協議会
BEGIN:VEVENT
DTSTART;TZID="Asia/Tokyo":20160427T100000
DTEND;TZID="Asia/Tokyo":20160427T103000
DTSTAMP:20260424T200819
CREATED:20160604T071455
LAST-MODIFIED:20160604T071455
UID:2526-1461751200-1461753000@www.tokuwa.jp
SUMMARY:歴史探訪抽選会
DESCRIPTION:
URL:http://www.tokuwa.jp/event/%e6%ad%b4%e5%8f%b2%e6%8e%a2%e8%a8%aa%e6%8a%bd%e9%81%b8%e4%bc%9a
END:VEVENT
END:VCALENDAR