BEGIN:VCALENDAR
VERSION:2.0
PRODID:-//徳和住民自治協議会 - ECPv4.1.0.1//NONSGML v1.0//EN
CALSCALE:GREGORIAN
METHOD:PUBLISH
X-WR-CALNAME:徳和住民自治協議会
X-ORIGINAL-URL:http://www.tokuwa.jp
X-WR-CALDESC:Events for 徳和住民自治協議会
BEGIN:VEVENT
DTSTART;TZID="Asia/Tokyo":20170427T100000
DTEND;TZID="Asia/Tokyo":20170427T120000
DTSTAMP:20260424T060532
CREATED:20170518T090049
LAST-MODIFIED:20170518T090049
UID:3060-1493287200-1493294400@www.tokuwa.jp
SUMMARY:平成29年度徳和住民協議会通常総会
DESCRIPTION:
URL:http://www.tokuwa.jp/event/%e5%b9%b3%e6%88%9029%e5%b9%b4%e5%ba%a6%e5%be%b3%e5%92%8c%e4%bd%8f%e6%b0%91%e5%8d%94%e8%ad%b0%e4%bc%9a%e9%80%9a%e5%b8%b8%e7%b7%8f%e4%bc%9a
END:VEVENT
END:VCALENDAR