BEGIN:VCALENDAR
VERSION:2.0
PRODID:-//徳和住民自治協議会 - ECPv4.1.0.1//NONSGML v1.0//EN
CALSCALE:GREGORIAN
METHOD:PUBLISH
X-WR-CALNAME:徳和住民自治協議会
X-ORIGINAL-URL:http://www.tokuwa.jp
X-WR-CALDESC:Events for 徳和住民自治協議会
BEGIN:VEVENT
DTSTART;TZID="Asia/Tokyo":20150804T100000
DTEND;TZID="Asia/Tokyo":20150804T120000
DTSTAMP:20260425T022628
CREATED:20150830T014715
LAST-MODIFIED:20150830T014715
UID:521-1438682400-1438689600@www.tokuwa.jp
SUMMARY:子ども生け花体験教室
DESCRIPTION:
URL:http://www.tokuwa.jp/event/%e5%ad%90%e3%81%a9%e3%82%82%e7%94%9f%e3%81%91%e8%8a%b1%e4%bd%93%e9%a8%93%e6%95%99%e5%ae%a4
END:VEVENT
END:VCALENDAR