BEGIN:VCALENDAR
VERSION:2.0
PRODID:-//徳和住民自治協議会 - ECPv4.1.0.1//NONSGML v1.0//EN
CALSCALE:GREGORIAN
METHOD:PUBLISH
X-WR-CALNAME:徳和住民自治協議会
X-ORIGINAL-URL:http://www.tokuwa.jp
X-WR-CALDESC:Events for 徳和住民自治協議会
BEGIN:VEVENT
DTSTART;TZID="Asia/Tokyo":20160203T093000
DTEND;TZID="Asia/Tokyo":20160203T120000
DTSTAMP:20260424T182338
CREATED:20160209T013943
LAST-MODIFIED:20160209T013943
UID:919-1454491800-1454500800@www.tokuwa.jp
SUMMARY:乳幼児健康相談
DESCRIPTION:２月３日　９時３０分より乳幼児健康相談を行ってます。
URL:http://www.tokuwa.jp/event/%e4%b9%b3%e5%b9%bc%e5%85%90%e5%81%a5%e5%ba%b7%e7%9b%b8%e8%ab%87
END:VEVENT
END:VCALENDAR