BEGIN:VCALENDAR
VERSION:2.0
PRODID:-//徳和住民自治協議会 - ECPv4.1.0.1//NONSGML v1.0//EN
CALSCALE:GREGORIAN
METHOD:PUBLISH
X-WR-CALNAME:徳和住民自治協議会
X-ORIGINAL-URL:http://www.tokuwa.jp
X-WR-CALDESC:Events for 徳和住民自治協議会
BEGIN:VEVENT
DTSTART;TZID="Asia/Tokyo":20160901T100000
DTEND;TZID="Asia/Tokyo":20160901T120000
DTSTAMP:20260424T224041
CREATED:20160605T034840
LAST-MODIFIED:20160605T034840
UID:2542-1472724000-1472731200@www.tokuwa.jp
SUMMARY:ダンボールコンポスト教室（フォローアップ講座）
DESCRIPTION:
URL:http://www.tokuwa.jp/event/%e3%83%80%e3%83%b3%e3%83%9c%e3%83%bc%e3%83%ab%e3%82%b3%e3%83%b3%e3%83%9d%e3%82%b9%e3%83%88%e6%95%99%e5%ae%a4%ef%bc%88%e3%83%95%e3%82%a9%e3%83%ad%e3%83%bc%e3%82%a2%e3%83%83%e3%83%97%e8%ac%9b%e5%ba%a7
END:VEVENT
END:VCALENDAR