BEGIN:VCALENDAR
VERSION:2.0
PRODID:-//徳和住民自治協議会 - ECPv4.1.0.1//NONSGML v1.0//EN
CALSCALE:GREGORIAN
METHOD:PUBLISH
X-WR-CALNAME:徳和住民自治協議会
X-ORIGINAL-URL:http://www.tokuwa.jp
X-WR-CALDESC:Events for 徳和住民自治協議会
BEGIN:VEVENT
DTSTART;TZID="Asia/Tokyo":20160810T100000
DTEND;TZID="Asia/Tokyo":20160810T120000
DTSTAMP:20260425T002143
CREATED:20160605T035434
LAST-MODIFIED:20160605T035434
UID:2545-1470823200-1470830400@www.tokuwa.jp
SUMMARY:やんちゃクラブ
DESCRIPTION:
URL:http://www.tokuwa.jp/event/%e3%82%84%e3%82%93%e3%81%a1%e3%82%83%e3%82%af%e3%83%a9%e3%83%96-23
END:VEVENT
END:VCALENDAR