BEGIN:VCALENDAR
VERSION:2.0
PRODID:-//徳和住民自治協議会 - ECPv4.1.0.1//NONSGML v1.0//EN
CALSCALE:GREGORIAN
METHOD:PUBLISH
X-WR-CALNAME:徳和住民自治協議会
X-ORIGINAL-URL:http://www.tokuwa.jp
X-WR-CALDESC:Events for 徳和住民自治協議会
BEGIN:VEVENT
DTSTART;TZID="Asia/Tokyo":20151110T100000
DTEND;TZID="Asia/Tokyo":20151110T120000
DTSTAMP:20260425T142939
CREATED:20150830T013846
LAST-MODIFIED:20150830T013846
UID:512-1447149600-1447156800@www.tokuwa.jp
SUMMARY:まるとく料理教室
DESCRIPTION:
URL:http://www.tokuwa.jp/event/%e3%81%be%e3%82%8b%e3%81%a8%e3%81%8f%e6%96%99%e7%90%86%e6%95%99%e5%ae%a4-3
END:VEVENT
END:VCALENDAR