BEGIN:VCALENDAR
VERSION:2.0
PRODID:-//徳和住民自治協議会 - ECPv4.1.0.1//NONSGML v1.0//EN
CALSCALE:GREGORIAN
METHOD:PUBLISH
X-WR-CALNAME:徳和住民自治協議会
X-ORIGINAL-URL:http://www.tokuwa.jp
X-WR-CALDESC:Events for 徳和住民自治協議会
BEGIN:VEVENT
DTSTART;TZID="Asia/Tokyo":20160509T190000
DTEND;TZID="Asia/Tokyo":20160509T200000
DTSTAMP:20260424T182322
CREATED:20160604T065709
LAST-MODIFIED:20160604T065709
UID:2515-1462820400-1462824000@www.tokuwa.jp
SUMMARY:ふれあいリアル野球盤抽選会、説明会
DESCRIPTION:
URL:http://www.tokuwa.jp/event/%e3%81%b5%e3%82%8c%e3%81%82%e3%81%84%e3%83%aa%e3%82%a2%e3%83%ab%e9%87%8e%e7%90%83%e7%9b%a4%e6%8a%bd%e9%81%b8%e4%bc%9a%e3%80%81%e8%aa%ac%e6%98%8e%e4%bc%9a
END:VEVENT
END:VCALENDAR