BEGIN:VCALENDAR
VERSION:2.0
PRODID:-//徳和住民自治協議会 - ECPv4.1.0.1//NONSGML v1.0//EN
CALSCALE:GREGORIAN
METHOD:PUBLISH
X-WR-CALNAME:徳和住民自治協議会
X-ORIGINAL-URL:http://www.tokuwa.jp
X-WR-CALDESC:Events for 徳和住民自治協議会
BEGIN:VEVENT
DTSTART;TZID="Asia/Tokyo":20160529T080000
DTEND;TZID="Asia/Tokyo":20160529T120000
DTSTAMP:20260424T164747
CREATED:20160404T092946
LAST-MODIFIED:20160404T092946
UID:2165-1464508800-1464523200@www.tokuwa.jp
SUMMARY:ふれあいリアル野球盤大会
DESCRIPTION:
URL:http://www.tokuwa.jp/event/%e3%81%b5%e3%82%8c%e3%81%82%e3%81%84%e3%83%aa%e3%82%a2%e3%83%ab%e9%87%8e%e7%90%83%e7%9b%a4%e5%a4%a7%e4%bc%9a
END:VEVENT
END:VCALENDAR