BEGIN:VCALENDAR
VERSION:2.0
PRODID:-//徳和住民自治協議会 - ECPv4.1.0.1//NONSGML v1.0//EN
CALSCALE:GREGORIAN
METHOD:PUBLISH
X-WR-CALNAME:徳和住民自治協議会
X-ORIGINAL-URL:http://www.tokuwa.jp
X-WR-CALDESC:Events for 徳和住民自治協議会
BEGIN:VEVENT
DTSTART;TZID="Asia/Tokyo":20170518T190000
DTEND;TZID="Asia/Tokyo":20170518T203000
DTSTAMP:20260424T090651
CREATED:20170518T084140
LAST-MODIFIED:20170518T084140
UID:3044-1495134000-1495139400@www.tokuwa.jp
SUMMARY:ふれあいリアル野球盤大会抽選・説明会
DESCRIPTION:
URL:http://www.tokuwa.jp/event/%e3%81%b5%e3%82%8c%e3%81%82%e3%81%84%e3%83%aa%e3%82%a2%e3%83%ab%e9%87%8e%e7%90%83%e7%9b%a4%e5%a4%a7%e4%bc%9a%e6%8a%bd%e9%81%b8%e3%83%bb%e8%aa%ac%e6%98%8e%e4%bc%9a
END:VEVENT
END:VCALENDAR