BEGIN:VCALENDAR
VERSION:2.0
PRODID:-//徳和住民自治協議会 - ECPv4.1.0.1//NONSGML v1.0//EN
CALSCALE:GREGORIAN
METHOD:PUBLISH
X-WR-CALNAME:徳和住民自治協議会
X-ORIGINAL-URL:http://www.tokuwa.jp
X-WR-CALDESC:Events for 徳和住民自治協議会
BEGIN:VEVENT
DTSTART;TZID="Asia/Tokyo":20170608T190000
DTEND;TZID="Asia/Tokyo":20170608T203000
DTSTAMP:20260421T091957
CREATED:20170518T085216
LAST-MODIFIED:20170518T085216
UID:3053-1496948400-1496953800@www.tokuwa.jp
SUMMARY:ふれあいユニカール夏季大会抽選・説明会
DESCRIPTION:
URL:http://www.tokuwa.jp/event/%e3%81%b5%e3%82%8c%e3%81%82%e3%81%84%e3%83%a6%e3%83%8b%e3%82%ab%e3%83%bc%e3%83%ab%e5%a4%8f%e5%ad%a3%e5%a4%a7%e4%bc%9a%e6%8a%bd%e9%81%b8%e3%83%bb%e8%aa%ac%e6%98%8e%e4%bc%9a
END:VEVENT
END:VCALENDAR