BEGIN:VCALENDAR
VERSION:2.0
PRODID:-//徳和住民自治協議会 - ECPv4.1.0.1//NONSGML v1.0//EN
CALSCALE:GREGORIAN
METHOD:PUBLISH
X-WR-CALNAME:徳和住民自治協議会
X-ORIGINAL-URL:http://www.tokuwa.jp
X-WR-CALDESC:Events for 徳和住民自治協議会
BEGIN:VEVENT
DTSTART;TZID="Asia/Tokyo":20160214T080000
DTEND;TZID="Asia/Tokyo":20160214T150000
DTSTAMP:20260424T233341
CREATED:20150830T015449
LAST-MODIFIED:20150830T015449
UID:533-1455436800-1455462000@www.tokuwa.jp
SUMMARY:ふれあいユニカール冬季大会
DESCRIPTION:
URL:http://www.tokuwa.jp/event/%e3%81%b5%e3%82%8c%e3%81%82%e3%81%84%e3%83%a6%e3%83%8b%e3%82%ab%e3%83%bc%e3%83%ab%e5%86%ac%e5%ad%a3%e5%a4%a7%e4%bc%9a
END:VEVENT
END:VCALENDAR