BEGIN:VCALENDAR
VERSION:2.0
PRODID:-//徳和住民自治協議会 - ECPv4.1.0.1//NONSGML v1.0//EN
CALSCALE:GREGORIAN
METHOD:PUBLISH
X-WR-CALNAME:徳和住民自治協議会
X-ORIGINAL-URL:http://www.tokuwa.jp
X-WR-CALDESC:Events for 徳和住民自治協議会
BEGIN:VEVENT
DTSTART;TZID="Asia/Tokyo":20170202T190000
DTEND;TZID="Asia/Tokyo":20170202T200000
DTSTAMP:20260424T121918
CREATED:20160605T041646
LAST-MODIFIED:20160605T041646
UID:2564-1486062000-1486065600@www.tokuwa.jp
SUMMARY:ふれあいユニカール冬季大会抽選会
DESCRIPTION:
URL:http://www.tokuwa.jp/event/%e3%81%b5%e3%82%8c%e3%81%82%e3%81%84%e3%83%a6%e3%83%8b%e3%82%ab%e3%83%bc%e3%83%ab%e5%86%ac%e5%ad%a3%e5%a4%a7%e4%bc%9a%e6%8a%bd%e9%81%b8%e4%bc%9a
END:VEVENT
END:VCALENDAR