BEGIN:VCALENDAR
VERSION:2.0
PRODID:-//徳和住民自治協議会 - ECPv4.1.0.1//NONSGML v1.0//EN
CALSCALE:GREGORIAN
METHOD:PUBLISH
X-WR-CALNAME:徳和住民自治協議会
X-ORIGINAL-URL:http://www.tokuwa.jp
X-WR-CALDESC:Events for 徳和住民自治協議会
BEGIN:VEVENT
DTSTART;TZID="Asia/Tokyo":20160924T080000
DTEND;TZID="Asia/Tokyo":20160924T170000
DTSTAMP:20260424T214632
CREATED:20160404T235436
LAST-MODIFIED:20160404T235436
UID:2183-1474704000-1474736400@www.tokuwa.jp
SUMMARY:ふれあいグラウンドゴルフ大会
DESCRIPTION:
URL:http://www.tokuwa.jp/event/%e3%81%b5%e3%82%8c%e3%81%82%e3%81%84%e3%82%b0%e3%83%a9%e3%82%a6%e3%83%b3%e3%83%89%e3%82%b4%e3%83%ab%e3%83%95%e5%a4%a7%e4%bc%9a-3
END:VEVENT
END:VCALENDAR