BEGIN:VCALENDAR
VERSION:2.0
PRODID:-//徳和住民自治協議会 - ECPv4.1.0.1//NONSGML v1.0//EN
CALSCALE:GREGORIAN
METHOD:PUBLISH
X-WR-CALNAME:徳和住民自治協議会
X-ORIGINAL-URL:http://www.tokuwa.jp
X-WR-CALDESC:Events for 徳和住民自治協議会
BEGIN:VEVENT
DTSTART;TZID="Asia/Tokyo":20160817T133000
DTEND;TZID="Asia/Tokyo":20160817T163000
DTSTAMP:20260424T222931
CREATED:20160605T034232
LAST-MODIFIED:20160605T034232
UID:2537-1471440600-1471451400@www.tokuwa.jp
SUMMARY:とくわっ子サロン
DESCRIPTION:
URL:http://www.tokuwa.jp/event/%e3%81%a8%e3%81%8f%e3%82%8f%e3%81%a3%e5%ad%90%e3%82%b5%e3%83%ad%e3%83%b3-2
END:VEVENT
END:VCALENDAR